BEGIN:VCALENDAR
BEGIN:VEVENT
SUMMARY:Qualifikation Windsurfen in der Schule | Veluwemeer - AUSGEBUCHT!!
 !
DTSTART:20260319T180000
DTEND:20260525T140000
UID:events_surfen-event_1767086036_170969.html
DESCRIPTION:Qualifikation\nWindsurfen in der Schule\nDie Veranstaltung fü
 hrt zur Qualifikation Windsurfen auf der Grundlage der aktuellen Aufsichts
 verordnung. Die Qualifikation Windsurfen vermittelt didaktisch und methodi
 sche Vorgehensweise sowie praktische Tipps für die Vorbereitung und Durch
 führung von Klassenfahrten\, Studienfahrten und Schullandheimaufenthalten
  mit sportlichem Schwerpunkt Windsurfen. Die Kursteilnahme qualifiziert ge
 mäß aktuell gültiger Verordnung über die Aufsicht über Schülerinnen 
 und Schüler. Die Teilnahme an der Veranstaltung ist Voraussetzung\, um An
 gebote zum Windsurfen durchführen zu dürfen.\nDas Qualifizierungsangebot
  besteht aus folgenden verbindlichen Teilen:\n\nPraxis und Theorie sowie M
 ethodik in Tages- und Abendveranstaltungen mit Prüfung (Der Fokus liegt a
 uf dem Unterrichten in einem Anfängerkurs)\n2\,5-tägige Praxisveranstalt
 ung am Meer\n3 online-Veranstaltungen á 2 Stunden zur Vorbereitung\nSelbs
 tstudium im Moodlekurs\n\nVoraussetzungen\nGemäß der Ausschreibung richt
 et sich diese Veranstaltung an Lehrkräfte\, die in schulischen Angeboten 
 Windsurfen durchführen und unterrichten wollen. Für eine erfolgreiche Te
 ilnahme am Kurs wird vorausgesetzt\, dass folgende Manöver und Fahrtechni
 ken mit Einsteigermaterial - bis zu Windstärke 4 auf kabbeligem Wasser - 
 sicher beherrscht werden:\n\nStarten (Aufholen\, Brett ausrichten\, Anfahr
 en) und losfahren\nSteuern (Abfallen/Anluven)\nKurse nutzen und halten (Ra
 umwindkurs\, Am-Wind-Kurs\, Halbwindkurs und Höhelaufen)\nBasis-Richtungs
 wechsel (Wende und Halse) in der Grobform\n\nTermine\n\n3 verbindliche Onl
 ine-Veranstaltungen per BigBlueButton:\n\nDo. 19.03.2026\, 18-20 Uhr\nDo. 
 16.04.2026\, 18-20 Uhr\nDi. 05.05.2026\, 18-20 Uhr\n\n\nverbindliche Praxi
 sveranstaltung am Veluwemeer\, Niederlande: \n\n22.05.2026\, 17 Uhr - 25.
 05.2026\, 14 Uhr\nDie Unterbringung erfolgt in einfachen Zwei-Personen-Blo
 ckhütten.\n\n\n\n(Eine regelmäßige und aktive Teilnahme wird erwartet.)
 \n
LOCATION:Online (per BBB) und Praxis (Veluwemeer\, Niederlande)
ORGANIZER:mailto:johannes.limmeroth@kultus.hessen.de
END:VEVENT
END:VCALENDAR
