BEGIN:VCALENDAR
BEGIN:VEVENT
SUMMARY:Tanzen in der Schule – Standard- u. Lateinamerikanische Tänze\,
  moderne Tänze | Wiesbaden
DTSTART:20261024T100000
DTEND:20261024T180000
UID:events_tanzenids-event_1768465404_5079305.html
LOCATION:TC Blau-Orange Wiesbaden e.V.\, Erich-Ollenhauer-Str. 6\, 65203 W
 iesbaden
ORGANIZER:mailto:klaus.knopp@kultus.hessen.de
END:VEVENT
BEGIN:VEVENT
SUMMARY:Tanzen in der Schule - Hip Hop Moves und moderne Tanzformen | Wies
 baden
DTSTART:20261121T100000
DTEND:20261121T180000
UID:events_tanzenids-event_1768465404_693351.html
LOCATION:TC Blau-Orange Wiesbaden e.V.\, Erich-Ollenhauer-Str. 6\, 65203 W
 iesbaden
ORGANIZER:mailto:klaus.knopp@kultus.hessen.de
END:VEVENT
END:VCALENDAR
