BEGIN:VCALENDAR
BEGIN:VEVENT
SUMMARY:Hip Hop Subgeneres: Shuffle\, C-Walk | Fulda
DTSTART:20260901T150000
DTEND:20260901T180000
UID:events_tanz-event_1768465074_65452.html
LOCATION:Winfriedschule Fulda\, Leipziger Str. 2\, 36037 Fulda
ORGANIZER:mailto:klaus.knopp@kultus.hessen.de
END:VEVENT
BEGIN:VEVENT
SUMMARY:Einführung Modern und Jazz & Modern Dance | Lampertheim
DTSTART:20260915T150000
DTEND:20260915T180000
UID:events_tanz-event_1768465074_8198864.html
LOCATION:Lessing-Gymnasium\, Biedensandstraße 55\, 68623 Lampertheim
ORGANIZER:mailto:klaus.knopp@kultus.hessen.de
END:VEVENT
END:VCALENDAR
