BEGIN:VCALENDAR
BEGIN:VEVENT
SUMMARY:Aufbaukurs Sicherungstechnik Auffrischen\, Üben\, Unterrichten | 
 Marburg - ABGESAGT!!!
DTSTART:20260213T143000
DTEND:20260213T190000
UID:events_aufbau-event_1768381388_8283017.html
LOCATION:Volksbank Kletterhalle\, Rudolf-Bultmann-Straße 4g\, 35039 Marbu
 rg
ORGANIZER:mailto:klaus.knopp@kultus.hessen.de
END:VEVENT
BEGIN:VEVENT
SUMMARY:Aufbaukurs Sicherungstechnik Auffrischen\, Üben\, Unterrichten | 
 Fulda
DTSTART:20260227T143000
DTEND:20260227T190000
UID:events_aufbau-event_1768381388_463786.html
LOCATION:DAV Kletterzentrum Fulda\, Gordelerstr. 72\, 36100 Petersberg
ORGANIZER:mailto:klaus.knopp@kultus.hessen.de
END:VEVENT
BEGIN:VEVENT
SUMMARY:Aufbaukurs Sicherungstechnik Auffrischen\, Üben\, Unterrichten | 
 Offenbach
DTSTART:20260414T143000
DTEND:20260414T193000
UID:events_aufbau-event_1768381389_197011.html
LOCATION:KletterBar\, Sprendlinger Landstraße 177b\, 63069 Offenbach am M
 ain
ORGANIZER:mailto:klaus.knopp@kultus.hessen.de
END:VEVENT
BEGIN:VEVENT
SUMMARY:Aufbaukurs Sicherungstechnik Auffrischen\, Üben\, Unterrichten | 
 Marburg
DTSTART:20260508T143000
DTEND:20260508T190000
UID:events_aufbau-event_1771513833_9836855.html
LOCATION:Volksbank Kletterhalle\, Rudolf-Bultmann-Straße 4g\, 35039 Marbu
 rg
ORGANIZER:mailto:klaus.knopp@kultus.hessen.de
END:VEVENT
BEGIN:VEVENT
SUMMARY:Aufbaukurs Sicherungstechnik Auffrischen\, Üben\, Unterrichten | 
 Neu-Anspach
DTSTART:20260814T143000
DTEND:20260814T193000
UID:events_aufbau-event_1768381389_0161927.html
LOCATION:DAV-Kletterzentrum\, Philipp-Reis-Straße 1a\, 61267 Neu-Anspach
ORGANIZER:mailto:klaus.knopp@kultus.hessen.de
END:VEVENT
BEGIN:VEVENT
SUMMARY:Aufbaukurs Sicherungstechnik Auffrischen\, Üben\, Unterrichten | 
 Frankfurt
DTSTART:20260904T153000
DTEND:20260904T203000
UID:events_aufbau-event_1768381388_2800393.html
LOCATION:Kletterzentrum Frankfurt\, Homburger Landstraße 283\, 60433 Fran
 kfurt am Main
ORGANIZER:mailto:klaus.knopp@kultus.hessen.de
END:VEVENT
BEGIN:VEVENT
SUMMARY:Aufbaukurs Sicherungstechnik Auffrischen\, Üben\, Unterrichten | 
 Weinheim
DTSTART:20260917T143000
DTEND:20260917T190000
UID:events_aufbau-event_1768381389_3932397.html
LOCATION:DAV Kletterturm\, Birkenauer Talstraße 99\, 69469 Weinheim
ORGANIZER:mailto:klaus.knopp@kultus.hessen.de
END:VEVENT
BEGIN:VEVENT
SUMMARY:Aufbaukurs Sicherungstechnik Auffrischen\, Üben\, Unterrichten | 
 Gießen - AUSGEBUCHT!!!
DTSTART:20261030T143000
DTEND:20261030T190000
UID:events_aufbau-event_1768381388_0870154.html
LOCATION:DAV Kletter- und Boulderzentrum Gießen\, Rödgener Str. 70\, 353
 94 Gießen
ORGANIZER:mailto:klaus.knopp@kultus.hessen.de
END:VEVENT
BEGIN:VEVENT
SUMMARY:Aufbaukurs Sicherungstechnik Auffrischen\, Üben\, Unterrichten | 
 Kassel
DTSTART:20261113T143000
DTEND:20261113T190000
UID:events_aufbau-event_1768381388_652138.html
LOCATION:Kletterzentrum Nordhessen\, Johanna-Waescher-Str. 4\, 34131 Kasse
 l
ORGANIZER:mailto:klaus.knopp@kultus.hessen.de
END:VEVENT
END:VCALENDAR
