BEGIN:VCALENDAR
BEGIN:VEVENT
SUMMARY:Einführungskurs Klettern in der Kletterhalle sowie in Kletterwäl
 dern und Seilgärten | Bensheim
DTSTART:20260414T140000
DTEND:20260421T183000
UID:events_einfkombiklettern-event_1768382213_4346962.html
DESCRIPTION:1. Termin: 14.04.2026 von 14:00 bis 18:30\, 2. Termin: 21.04.2
 026 von 14:00 bis 18:30\n
LOCATION:Kletterhalle High Moves Bensheim\, Albert-Einstein-Allee 8\, 6462
 5 Bensheim
ORGANIZER:mailto:klaus.knopp@kultus.hessen.de
END:VEVENT
BEGIN:VEVENT
SUMMARY:Einführungskurs Klettern in der Kletterhalle sowie in Kletterwäl
 dern und Seilgärten | Bensheim
DTSTART:20260512T140000
DTEND:20260519T183000
UID:events_einfkombiklettern-event_1768382213_6325667.html
DESCRIPTION:1. Termin: 12.05.2026 von 14:00 bis 18:30\, 2. Termin: 19.05.2
 026 von 14:00 bis 18:30\n
LOCATION:Kletterhalle High Moves Bensheim\, Albert-Einstein-Allee 8\, 6462
 5 Bensheim
ORGANIZER:mailto:klaus.knopp@kultus.hessen.de
END:VEVENT
BEGIN:VEVENT
SUMMARY:Einführungskurs Klettern in der Kletterhalle sowie in Kletterwäl
 dern und Seilgärten | Bensheim
DTSTART:20261020T140000
DTEND:20261027T183000
UID:events_einfkombiklettern-event_1768382213_8295538.html
DESCRIPTION:1. Termin: 20.10.2026 von 14:00 bis 18:30\, 2. Termin: 27.10.2
 026 von 14:00 bis 18:30\n
LOCATION:Kletterhalle High Moves Bensheim\, Albert-Einstein-Allee 8\, 6462
 5 Bensheim
ORGANIZER:mailto:klaus.knopp@kultus.hessen.de
END:VEVENT
END:VCALENDAR
