BEGIN:VCALENDAR
BEGIN:VEVENT
SUMMARY:Aufbaukurs sichere Bootsbeherrschung auf bewegtem Wasser I Sömmer
 da
DTSTART:20260805T103000
DTEND:20260807T150000
UID:events_kanu_fobi-event_1772213506_8970742.html
DESCRIPTION:Der Aufbaukurs umfasst 3 Termine:\nMi. 05.08.2026 von 10:30 bi
 s 18:00Do. 06.08.2026 von 09:00 bis 18:00Fr. 07.08.2026 von 09:00 bis 15:0
 0\n
LOCATION:KC Sömmerda e. V.\, Riedtorstraße 12b\, 99610 Sömmerda
ORGANIZER:mailto:christiane.handel@kultus.hessen.de
END:VEVENT
END:VCALENDAR
