BEGIN:VCALENDAR
BEGIN:VEVENT
SUMMARY:Kämpfen spielerisch lernen\, fair verhalten (Modul 2: Erweiterung
 sstufe) | Gudensberg
DTSTART:20260505T143000
DTEND:20260505T173000
UID:events_kaempfen-event_1758885249_2971718.html
LOCATION:Dr.-Georg-August-Zinn-Schule\, Schwimmbadweg 30  34281 Gudensberg
ORGANIZER:mailto:klaus.knopp@kultus.hessen.de
END:VEVENT
END:VCALENDAR
